BEGIN:VCALENDAR
VERSION:2.0
PRODID:-//IfLA - ECPv6.15.16//NONSGML v1.0//EN
CALSCALE:GREGORIAN
METHOD:PUBLISH
X-WR-CALNAME:IfLA
X-ORIGINAL-URL:https://institute.iium.edu.my/ifla
X-WR-CALDESC:Events for IfLA
REFRESH-INTERVAL;VALUE=DURATION:PT1H
X-Robots-Tag:noindex
X-PUBLISHED-TTL:PT1H
BEGIN:VTIMEZONE
TZID:Asia/Shanghai
BEGIN:STANDARD
TZOFFSETFROM:+0800
TZOFFSETTO:+0800
TZNAME:CST
DTSTART:20250101T000000
END:STANDARD
END:VTIMEZONE
BEGIN:VEVENT
DTSTART;TZID=Asia/Shanghai:20260425T080000
DTEND;TZID=Asia/Shanghai:20260425T163000
DTSTAMP:20260425T085000
CREATED:20260222T235415Z
LAST-MODIFIED:20260222T235759Z
UID:1747-1777104000-1777134600@institute.iium.edu.my
SUMMARY:ACE SPM 2026
DESCRIPTION:Master the Techniques. Maximise Your Marks. \nThe Institute for Language Advancement (IfLA)\, IIUM proudly invites all Form 4 and Form 5 students\, as well as teachers\, to join ACE SPM 2026 – Series 1\, a focused and results-driven seminar designed to help students excel in their SPM examinations. \n📅 Programme Details \nDate: Saturday\, 25 April 2026\nTime: 8.00 a.m. – 4.30 p.m.\nVenue: Auditorium B\, Kulliyyah of Engineering (KOE)\, International Islamic University Malaysia (IIUM)\, Gombak\n🔗 View location on Google Maps \n🍴 Meals will be provided. \n👩‍🏫 Guest Speakers \nParticipants will learn directly from experienced and respected educators: \n\nBahasa Melayu Kertas 1: Cikgu Azlin binti Anual (SMKA Kuala Lumpur)\nBahasa Melayu Kertas 2: Cikgu Liza binti Embong (SMK Batu Muda)\nSejarah: Cikgu Amirul Haikal Bin Rahim (SMA MITTIS Kajang)\n\nEach session is carefully structured to provide practical answering techniques\, examiner insights\, and proven strategies aligned with the current SPM format. \n✨ Why You Should Join \n✅ Learn effective techniques for answering SPM questions\n✅ Gain valuable tips and high-scoring strategies from experienced teachers\n✅ Strengthen exam confidence and preparation for SPM 2026\n✅ Experience a focused\, full-day academic boost \n💰 Participation Fee \nPer subject: RM 75\nAll subjects: RM 150 only \nAn affordable investment for a stronger SPM performance. \n⚠️ Seats are limited. Early registration is highly encouraged. \nRegister: bit.ly/ACESPM2026 \nPrepare smarter. Study strategically.\nDon’t just sit for SPM — ACE SPM 2026 with IfLA! \nFor further information or enquiries\, please contact: \n📱 WhatsApp Only (IfLA):\nhttps://wasap.my/60182179893 \n☎ Office Line:\n03-6421 28230
URL:https://institute.iium.edu.my/ifla/event/ace-spm-2026/
LOCATION:IIUM Gombak Campus\, Jalan Gombak\, Gombak\, Selangor\, 53100
END:VEVENT
END:VCALENDAR