BEGIN:VCALENDAR
VERSION:2.0
PRODID:-// - ECPv6.15.16//NONSGML v1.0//EN
CALSCALE:GREGORIAN
METHOD:PUBLISH
X-ORIGINAL-URL:https://institute.iium.edu.my/istac
X-WR-CALDESC:Events for 
REFRESH-INTERVAL;VALUE=DURATION:PT1H
X-Robots-Tag:noindex
X-PUBLISHED-TTL:PT1H
BEGIN:VTIMEZONE
TZID:Asia/Kuala_Lumpur
BEGIN:STANDARD
TZOFFSETFROM:+0800
TZOFFSETTO:+0800
TZNAME:+08
DTSTART:20240101T000000
END:STANDARD
END:VTIMEZONE
BEGIN:VEVENT
DTSTART;TZID=Asia/Kuala_Lumpur:20251126T100000
DTEND;TZID=Asia/Kuala_Lumpur:20251126T113000
DTSTAMP:20260425T022659
CREATED:20251121T014828Z
LAST-MODIFIED:20251121T014828Z
UID:12210-1764151200-1764156600@institute.iium.edu.my
SUMMARY:SMNA LIBRARY LECTURE NO.10
DESCRIPTION:SMNA LIBRARY LECTURE NO.10Date: 26th November 2025 (Wednesday)Time: 10:00 am-11:30 amVenue: Ground Floor\, SMNA LIBRARY\, ISTAC-IIUMSpeaker: Prof. Dato’ Dr. Ahmad Murad Merican
URL:https://institute.iium.edu.my/istac/events/smna-library-lecture-no-10/
LOCATION:Syed Muhammad Naquib al-Attas Library\, Malaysia
CATEGORIES:Lecture Series
ATTACH;FMTTYPE=image/jpeg:https://institute.iium.edu.my/istac/wp-content/uploads/sites/2/2025/11/585869575_1315798760345389_8358555798494911934_n.jpg
END:VEVENT
BEGIN:VEVENT
DTSTART;TZID=Asia/Kuala_Lumpur:20251126T150000
DTEND;TZID=Asia/Kuala_Lumpur:20251126T163000
DTSTAMP:20260425T022659
CREATED:20251121T014300Z
LAST-MODIFIED:20251121T014300Z
UID:12206-1764169200-1764174600@institute.iium.edu.my
SUMMARY:READINGS FROM IBN KHALDUN'S THE MUQADDIMAH - SESSION 4
DESCRIPTION:READINGS FROM IBN KHALDUN’S THE MUQADDIMAH – SESSION 4Date: 26th November 2025 (Wednesday)Time: 3:00 pm – 4:30 pmVenue: Ibn Khaldun Conference Room\, ISTAC-IIUM
URL:https://institute.iium.edu.my/istac/events/readings-from-ibn-khalduns-the-muqaddimah-session-4/
LOCATION:Ibn Khaldun Conference Room\, ISTAC – IIUM\, 24\, Persiaran Tuanku Syed Sirajuddin\, Bukit Tunku\, Kuala Lumpur\, Wilayah Persekutuan Kuala Lumpur\, 50480\, Malaysia
CATEGORIES:Lecture Series
ATTACH;FMTTYPE=image/png:https://institute.iium.edu.my/istac/wp-content/uploads/sites/2/2025/11/Readings-from-Ibn-Khalduns-Muqaddimah-iv_iv.png
ORGANIZER;CN="ISTAC - IIUM":MAILTO:istac@iium.edu.my
END:VEVENT
BEGIN:VEVENT
DTSTART;TZID=Asia/Kuala_Lumpur:20251127T103000
DTEND;TZID=Asia/Kuala_Lumpur:20251127T113000
DTSTAMP:20260425T022659
CREATED:20251121T015239Z
LAST-MODIFIED:20251121T015239Z
UID:12213-1764239400-1764243000@institute.iium.edu.my
SUMMARY:Malay Manuscript Lecture Series - Lecture 19
DESCRIPTION:  \nThe Centre for Malay-Islamic Civilizational Studies (CMICS)\, ISTAC-IIUM\, warmly invites you to join the upcoming session of the: \nMalay Manuscript Lecture Series\nLecture 19\nTitle: Malay Wisdom Pertaining to Classical Jawi Script\nSpeaker: Dr. Wan Ali Wan Mamat (Senior Academic Fellow\, ISTAC-IIUM) \nDate: 27 November 2025 (Thursday)\nTime: 10:30 AM (MYT) / 9:30 AM (WIB)\nPlatform: Online (ISTAC TV YouTube Channel & Zoom) \nAll are welcome to participate and benefit from this insightful exploration of Malay wisdom in the Classical Jawi script tradition.
URL:https://institute.iium.edu.my/istac/events/malay-manuscript-lecture-series-lecture-19/
LOCATION:KUALA LUMPUR
CATEGORIES:Lecture Series
ATTACH;FMTTYPE=image/jpeg:https://institute.iium.edu.my/istac/wp-content/uploads/sites/2/2025/11/WhatsApp-Image-2025-11-20-at-09.06.25.jpeg
END:VEVENT
BEGIN:VEVENT
DTSTART;TZID=Asia/Kuala_Lumpur:20251128T150000
DTEND;TZID=Asia/Kuala_Lumpur:20251128T170000
DTSTAMP:20260425T022659
CREATED:20251125T023800Z
LAST-MODIFIED:20251125T023800Z
UID:12217-1764342000-1764349200@institute.iium.edu.my
SUMMARY:ISTAC-IIUM Distinguished Scholar Lecture (IDSL) 16
DESCRIPTION:  \nISTAC-IIUM Distinguished Scholar Lecture (IDSL) 16 \nBOOK TALK & DISCUSSION – COVENANT WITH ALLAH: KEYSTONE OF ISLAM \nSpeaker: Prof Dr Halim Rane\, School of Humanities\, Languages and Social Science\, Griffith University \nDate: 28th November 2025 (Friday) Time: 3:00 pm – 5:00 pm Venue: Ibn Khaldun Conference Room\, ISTAC-IIUM \nModerator: Prof Dr Imtiyaz Yusuf\, ISTAC-IIUM
URL:https://institute.iium.edu.my/istac/events/istac-iium-distinguished-scholar-lecture-idsl-16/
LOCATION:Ibn Khaldun Conference Room\, ISTAC – IIUM\, 24\, Persiaran Tuanku Syed Sirajuddin\, Bukit Tunku\, Kuala Lumpur\, Wilayah Persekutuan Kuala Lumpur\, 50480\, Malaysia
CATEGORIES:Lecture Series
ATTACH;FMTTYPE=image/jpeg:https://institute.iium.edu.my/istac/wp-content/uploads/sites/2/2025/11/IDSL-16.jpeg
END:VEVENT
END:VCALENDAR